BEGIN:VCALENDAR
VERSION:2.0
METHOD:PUBLISH
PRODID:-//Accessible Web Design//My Calendar//http://www.joedolson.com//v3.2.17//EN';
BEGIN:VEVENT
UID:681-121
LOCATION:Move Play Grow: Solana Beach 427 S Cedros Ave. Suite 101  Solana Beach CA 92075
SUMMARY:9:00am Dance (Walking-24 months)
DTSTAMP:20191031T090000
ORGANIZER;CN=Karri Turley:MAILTO:karri@moveplaygrow.com
DTSTART:20191031T090000
DTEND:20191031T093000
CATEGORIES:General
URL;VALUE=URI:https://www.moveplaygrow.com/product/dance/
DESCRIPTION;ENCODING=QUOTED-PRINTABLE:This fun class is geared towards ages walking-24 months. In this class you and your child will be able to explore the magic of rhythm, movement, connection, dance and much more! We will work on your child's major and fine motor skills while embracing their individuality and attention span!Click HERE to register! https://www.moveplaygrow.com/product/dance/
END:VEVENT
END:VCALENDAR