BEGIN:VCALENDAR
VERSION:2.0
METHOD:PUBLISH
PRODID:-//Accessible Web Design//My Calendar//http://www.joedolson.com//v3.2.17//EN';
BEGIN:VEVENT
UID:457-83
LOCATION:Move Play Grow: Solana Beach 427 S Cedros Ave. Suite 101  Solana Beach CA 92075
SUMMARY:1:30pm Open Play Gym Time!
DTSTAMP:20190531T133000
ORGANIZER;CN=Karri Turley:MAILTO:karri@moveplaygrow.com
DTSTART:20190531T133000
DTEND:20190531T143000
CATEGORIES:General
URL;VALUE=URI:
DESCRIPTION;ENCODING=QUOTED-PRINTABLE:Did you know that movement and laughter during play lights up the brain more than anything else??!?! So, Why do we ever stop playing? It’s essential for our little ones, but truly, it frees us.Come with your little one for some unplugged, dedicated play in our brand new space. You’ll have access to toys and play equipment that inspires creativity and connection, fun and laughter.Most of the play things in our center will not be found in homes. These new experiences lead to fresh connections within and between each of you, and empowers you both as you explore and discover together.Movement, play, fun, growth. Does it get any better than that?The fee is $15 for the hour or FREE if you sign up for a class series and we limit it to 10 children to make sure everyone has a fantastic time.Click HERE to register 
END:VEVENT
END:VCALENDAR